BEGIN:VCALENDAR
VERSION:2.0
PRODID:-//OAWilliams Consulting - ECPv6.15.20//NONSGML v1.0//EN
CALSCALE:GREGORIAN
METHOD:PUBLISH
X-WR-CALNAME:OAWilliams Consulting
X-ORIGINAL-URL:https://www.oawilliamsconsulting.com
X-WR-CALDESC:Events for OAWilliams Consulting
REFRESH-INTERVAL;VALUE=DURATION:PT1H
X-Robots-Tag:noindex
X-PUBLISHED-TTL:PT1H
BEGIN:VTIMEZONE
TZID:America/Cayman
BEGIN:STANDARD
TZOFFSETFROM:-0500
TZOFFSETTO:-0500
TZNAME:EST
DTSTART:20180101T000000
END:STANDARD
END:VTIMEZONE
BEGIN:VEVENT
DTSTART;TZID=America/Cayman:20200205T150000
DTEND;TZID=America/Cayman:20200205T160000
DTSTAMP:20260423T134554
CREATED:20200127T225622Z
LAST-MODIFIED:20200127T225622Z
UID:9929-1580914800-1580918400@www.oawilliamsconsulting.com
SUMMARY:The 7 Habits of Highly Effective People Webcast
DESCRIPTION:7 Habits that will Increase Your Personal and Professional Effectiveness: The 7 Habits of Highly Effective People®: Signature Edition 4.0 \nRenowned as the world’s premier personal leadership development solution\, the new 7 Habits of Highly Effective People Signature Edition 4.0® aligns timeless principles of effectiveness with modern technology and practices. \nTraining that helps your organization achieve sustained superior results by focusing on making individuals and leaders more effective. Participants gain hands-on experience\, applying timeless principles that yield greater productivity\, improved communication\, strengthened relationships\, increased influence\, and laser-like focus on critical priorities.
URL:https://www.oawilliamsconsulting.com/event/the-7-habits-of-highly-effective-people-webcast/
CATEGORIES:Webcasts
ATTACH;FMTTYPE=image/jpeg:https://www.oawilliamsconsulting.com/wp-content/uploads/2019/11/7-habits.jpg
END:VEVENT
BEGIN:VEVENT
DTSTART;TZID=America/Cayman:20200205T110000
DTEND;TZID=America/Cayman:20200205T120000
DTSTAMP:20260423T134554
CREATED:20200127T224259Z
LAST-MODIFIED:20200127T224523Z
UID:9923-1580900400-1580904000@www.oawilliamsconsulting.com
SUMMARY:Unconscious Bias: Understanding Bias to Unleash Potential Webcast
DESCRIPTION:Every day\, we are faced with countless bits of information while making decisions that range from the pragmatic to the strategic. As we confront more and more information we have to act quickly while considering varying perspectives. The result is that we are primed to rely on biased thinking. Why? Because unconscious biases are how our brains compensate for overload. But bias can also inhibit performance and lead to poor decision making. \nSo how do we counteract the potentially harmful impacts of unconscious bias? \nHow can we create a workplace in which everyone feels valued and able to offer their best? \nIntroducing Unconscious Bias: Understanding Bias to Unleash Potential™ \nA bias is a preference for or against a person\, place\, or thing. But unconscious bias leaves us unaware of potential harm resulting from biased thinking. As we understand bias\, we can address it to create a culture in which everyone thrives. To do so\, we must: \n\nIdentify Bias where it shows up in our own thinking and in our workplaces.\nCultivate Connection with those around us to expand our understanding and improve our decision-making.\nChoose Courage as we engage with care and boldness in addressing biases that limit people and constrain performance.\n\nThis one-hour webcast is an overview of FranklinCovey’s one-day solution\, Unconscious Bias: Understanding Bias to Unleash Potential.
URL:https://www.oawilliamsconsulting.com/event/unconscious-bias-understanding-bias-to-unleash-potential-webcast/
CATEGORIES:Webcasts
ATTACH;FMTTYPE=image/jpeg:https://www.oawilliamsconsulting.com/wp-content/uploads/2020/01/Unconscious-Bias.jpg
END:VEVENT
BEGIN:VEVENT
DTSTART;TZID=America/Cayman:20200108T150000
DTEND;TZID=America/Cayman:20200108T160000
DTSTAMP:20260423T134554
CREATED:20191106T173324Z
LAST-MODIFIED:20191119T151952Z
UID:9753-1578495600-1578499200@www.oawilliamsconsulting.com
SUMMARY:Leading at the Speed of Trust Webcast
DESCRIPTION:The 13 Behaviors that will Increase Engagement and Trust: Leading at the Speed of Trust®\n\n\n\nHelps leaders at all levels raise trust from an often-ignored asset to a strategic advantage in their organization. This work session focuses on behaviors common to high-trust leaders. \n\n\n\n\n\nREGISTER AT EVENTBRITE\n\n\n\n\n\nDate and Time\n\n\n\nWed\, January 8\, 20203:00 PM – 4:00 PM EST
URL:https://www.oawilliamsconsulting.com/event/leading-at-the-speed-of-trust-webcast-3/
CATEGORIES:Webcasts
ATTACH;FMTTYPE=image/jpeg:https://www.oawilliamsconsulting.com/wp-content/uploads/2019/05/Leading-at-the-Speed-of-Trust.jpg
END:VEVENT
BEGIN:VEVENT
DTSTART;TZID=America/Cayman:20200107T110000
DTEND;TZID=America/Cayman:20200107T120000
DTSTAMP:20260423T134554
CREATED:20191104T173140Z
LAST-MODIFIED:20191119T152421Z
UID:9751-1578394800-1578398400@www.oawilliamsconsulting.com
SUMMARY:The 7 Habits of Highly Effective People®: Signature Edition 4.0 - Webcast
DESCRIPTION:Renowned as the world’s premier personal leadership development solution\, the new 7 Habits of Highly Effective People Signature Edition 4.0® aligns timeless principles of effectiveness with modern technology and practices. \n\n\n\nTraining that helps your organization achieve sustained superior results by focusing on making individuals and leaders more effective. Participants gain hands-on experience\, applying timeless principles that yield greater productivity\, improved communication\, strengthened relationships\, increased influence\, and laser-like focus on critical priorities. \n\n\n\n\n\nREGISTER AT EVENTBRITE\n\n\n\n\n\nDate & Time\n\n\n\nTue\, January 7\, 202011:00 AM – 12:00 PM EST \n\n\n\n\n\n 
URL:https://www.oawilliamsconsulting.com/event/the-7-habits-of-highly-effective-people-signature-edition-4-0-webcast-2/
CATEGORIES:Webcasts
ATTACH;FMTTYPE=image/jpeg:https://www.oawilliamsconsulting.com/wp-content/uploads/2019/11/7-habits.jpg
END:VEVENT
BEGIN:VEVENT
DTSTART;TZID=America/Cayman:20191212T110000
DTEND;TZID=America/Cayman:20191212T120000
DTSTAMP:20260423T134554
CREATED:20191118T172919Z
LAST-MODIFIED:20191119T152633Z
UID:9748-1576148400-1576152000@www.oawilliamsconsulting.com
SUMMARY:The 7 Habits for Managers - Webcast
DESCRIPTION:Improve Your Effectiveness as a Manager: The 7 Habits for Managers®: Essential Skills and Tools for Leading Teams\n\n\n\nEquips team leaders to effectively lead a team of people by first focusing on who a manager IS\, then what a manager DOES. Its uniqueness is the lens of the 7 Habits framework – and the way it applies new mindsets\, skills\, and useful tools towards becoming a great team leader who can consistently deliver results. \n\n\n\n\n\nREGISTER AT EVENTBRITE\n\n\n\n\n\nDate & Time\n\n\n\nThu\, December 12\, 201911:00 AM – 12:00 PM EST \n\n\n\n\n\n 
URL:https://www.oawilliamsconsulting.com/event/the-7-habits-for-managers-webcast/
CATEGORIES:Webcasts
ATTACH;FMTTYPE=image/jpeg:https://www.oawilliamsconsulting.com/wp-content/uploads/2019/11/7-habits-for-manager.jpg
END:VEVENT
BEGIN:VEVENT
DTSTART;TZID=America/Cayman:20191205T150000
DTEND;TZID=America/Cayman:20191205T160000
DTSTAMP:20260423T134554
CREATED:20191118T172526Z
LAST-MODIFIED:20191119T153121Z
UID:9746-1575558000-1575561600@www.oawilliamsconsulting.com
SUMMARY:Leading at the Speed of Trust Webcast
DESCRIPTION:The 13 Behaviors that will Increase Engagement and Trust: Leading at the Speed of Trust®\n\n\n\nHelps leaders at all levels raise trust from an often-ignored asset to a strategic advantage in their organization. This work session focuses on behaviors common to high-trust leaders. \n\n\n\n\n\nREGISTER AT EVENTBRITE\n\n\n\n\n\nDate and Time\n\n\n\nThu\, December 5\, 20193:00 PM – 4:00 PM EST
URL:https://www.oawilliamsconsulting.com/event/leading-at-the-speed-of-trust-webcast-2/
CATEGORIES:Webcasts
ATTACH;FMTTYPE=image/jpeg:https://www.oawilliamsconsulting.com/wp-content/uploads/2019/05/Leading-at-the-Speed-of-Trust.jpg
END:VEVENT
BEGIN:VEVENT
DTSTART;TZID=America/Cayman:20191203T150000
DTEND;TZID=America/Cayman:20191203T160000
DTSTAMP:20260423T134554
CREATED:20191118T172044Z
LAST-MODIFIED:20191119T153217Z
UID:9743-1575385200-1575388800@www.oawilliamsconsulting.com
SUMMARY:The 7 Habits of Highly Effective People®: Signature Edition 4.0 - Webcast
DESCRIPTION:Renowned as the world’s premier personal leadership development solution\, the new 7 Habits of Highly Effective People Signature Edition 4.0® aligns timeless principles of effectiveness with modern technology and practices. \n\n\n\nTraining that helps your organization achieve sustained superior results by focusing on making individuals and leaders more effective. Participants gain hands-on experience\, applying timeless principles that yield greater productivity\, improved communication\, strengthened relationships\, increased influence\, and laser-like focus on critical priorities. \n\n\n\n\n\n\n\nREGISTER AT EVENTBRITE\n\n\n\n\n\nDate & Time\n\n\n\nTue\, December 3\, 20193:00 PM – 4:00 PM EST \n\n\n\n\n\n 
URL:https://www.oawilliamsconsulting.com/event/the-7-habits-of-highly-effective-people-signature-edition-4-0-webcast/
CATEGORIES:Webcasts
ATTACH;FMTTYPE=image/jpeg:https://www.oawilliamsconsulting.com/wp-content/uploads/2019/11/7-habits.jpg
END:VEVENT
BEGIN:VEVENT
DTSTART;TZID=America/Cayman:20191120T110000
DTEND;TZID=America/Cayman:20191120T120000
DTSTAMP:20260423T134554
CREATED:20191118T171502Z
LAST-MODIFIED:20191119T153316Z
UID:9738-1574247600-1574251200@www.oawilliamsconsulting.com
SUMMARY:The 4 Essential Roles of Leadership Webcast
DESCRIPTION:A Framework for Success for Leaders Everywhere: The 4 Essential Roles of Leadership\n\n\n\nEven in the most turbulent times\, there are four roles leaders play that are highly predictive of success. We call them essential\, because as leaders consciously lead themselves and their teams in alignment with these roles\, they lay the foundation for effective leadership. \n\n\n\n\n\nREGISTER AT EVENTBRITE\n\n\n\n\n\nDate & Time\n\n\n\nWed\, November 20\, 201911:00 AM – 12:00 PM EST \n\n\n\n\n\n 
URL:https://www.oawilliamsconsulting.com/event/the-4-essential-roles-of-leadership/
CATEGORIES:Webcasts
ATTACH;FMTTYPE=image/jpeg:https://www.oawilliamsconsulting.com/wp-content/uploads/2019/11/4-essential-roles-of-leadership.jpg
END:VEVENT
BEGIN:VEVENT
DTSTART;TZID=America/Cayman:20191119T110000
DTEND;TZID=America/Cayman:20191119T120000
DTSTAMP:20260423T134554
CREATED:20191118T170434Z
LAST-MODIFIED:20191119T153349Z
UID:9729-1574161200-1574164800@www.oawilliamsconsulting.com
SUMMARY:Equipping First-Level Leaders with the Essential Skills and Tools to Lead a Team Webcast
DESCRIPTION:The 6 Critical Practices for Leading a Team\n\n\n\nFirst-level leaders make a significant impact on every metric in your business: employee productivity and engagement\, customer satisfaction and loyalty\, innovation\, and financial performance. Your first-level leaders are the “Difference-Makers” in your business. \n\n\n\nThe 6 Critical Practices for Leading a Team is ideal for new first-level leaders who need to transition successfully from individual contributors to leaders of others. It also applies to leaders who have been in their roles for some time\, and are looking for practical and relevant guidance on how to effectively lead and manage their teams. \n\n\n\n\n\nREGISTER AT EVENTBRITE\n\n\n\n\n\nDate & Time\n\n\n\nTue\, November 19\, 201911:00 AM – 12:00 PM EST \n\n\n\n\n\n 
URL:https://www.oawilliamsconsulting.com/event/equipping-first-level-leaders-with-the-essential-skills-and-tools-to-lead-a-team/
CATEGORIES:Webcasts
ATTACH;FMTTYPE=image/jpeg:https://www.oawilliamsconsulting.com/wp-content/uploads/2019/11/6-critical-practices.jpg
END:VEVENT
END:VCALENDAR